BEGIN:VCALENDAR
VERSION:2.0
PRODID:-//Buy Michigan Now - ECPv6.15.20//NONSGML v1.0//EN
CALSCALE:GREGORIAN
METHOD:PUBLISH
X-WR-CALNAME:Buy Michigan Now
X-ORIGINAL-URL:https://buymichigannow.com
X-WR-CALDESC:Events for Buy Michigan Now
REFRESH-INTERVAL;VALUE=DURATION:PT1H
X-Robots-Tag:noindex
X-PUBLISHED-TTL:PT1H
BEGIN:VTIMEZONE
TZID:America/Detroit
BEGIN:DAYLIGHT
TZOFFSETFROM:-0500
TZOFFSETTO:-0400
TZNAME:EDT
DTSTART:20190310T070000
END:DAYLIGHT
BEGIN:STANDARD
TZOFFSETFROM:-0400
TZOFFSETTO:-0500
TZNAME:EST
DTSTART:20191103T060000
END:STANDARD
BEGIN:DAYLIGHT
TZOFFSETFROM:-0500
TZOFFSETTO:-0400
TZNAME:EDT
DTSTART:20200308T070000
END:DAYLIGHT
BEGIN:STANDARD
TZOFFSETFROM:-0400
TZOFFSETTO:-0500
TZNAME:EST
DTSTART:20201101T060000
END:STANDARD
BEGIN:DAYLIGHT
TZOFFSETFROM:-0500
TZOFFSETTO:-0400
TZNAME:EDT
DTSTART:20210314T070000
END:DAYLIGHT
BEGIN:STANDARD
TZOFFSETFROM:-0400
TZOFFSETTO:-0500
TZNAME:EST
DTSTART:20211107T060000
END:STANDARD
END:VTIMEZONE
BEGIN:VEVENT
DTSTART;VALUE=DATE:20200418
DTEND;VALUE=DATE:20200419
DTSTAMP:20260424T224522
CREATED:20200311T174049Z
LAST-MODIFIED:20200311T174049Z
UID:10000901-1587168000-1587254399@buymichigannow.com
SUMMARY:MSU Global Day of Service
DESCRIPTION:Every year in April\, as part of the Spartans Serve initiative\, there is a Global Day of Service to harness the power of this spirit of service and demonstrate what Spartans can do in a single day. Since 2013\, Spartans Serve has been a great success. More than 57\,000 hours of service have been donated by more than 12\,000 volunteers in nearly 1\,000 locations. These volunteers have provided a collective impact valued at $1.375 million to their causes. Individuals interested in participating are encouraged to visit the website to view or create volunteer opportunities.
URL:https://buymichigannow.com/event/msu-global-day-of-service/
LOCATION:Various locations
CATEGORIES:Community,Featured Events
ATTACH;FMTTYPE=image/jpeg:https://buymichigannow.com/wp-content/uploads/2020/03/MSU-sign.jpg
ORGANIZER;CN="Michigan State University":MAILTO:giggym@msu.edu
END:VEVENT
BEGIN:VEVENT
DTSTART;VALUE=DATE:20200421
DTEND;VALUE=DATE:20200424
DTSTAMP:20260424T224522
CREATED:20191212T031905Z
LAST-MODIFIED:20210710T052653Z
UID:10000923-1587427200-1587686399@buymichigannow.com
SUMMARY:SAE WCX™ 2020 World Congress Experience
DESCRIPTION:The largest technical mobility event of the year draws mechanical\, electrical and software engineers\, OEMs\, Tier 1 suppliers and R&D professionals to Detroit to transform inspiration into action. Place yourself at the convergence of what’s now and what’s next in mobility at WCX 2020 SAE World Congress Experience. \nAlongside the brightest minds from across the entire mobility engineering spectrum\, you’ll experience expert-led technical education\, build valuable partnerships\, explore a technology-driven exhibit floor and collaborate on the global mobility solutions shifting the industry.
URL:https://buymichigannow.com/event/sae-wcx-2020-world-congress-experience/
LOCATION:TCF Center\, One Washington Blvd\, Detroit\, MI\, 48226
CATEGORIES:Business,Makers,Tech
END:VEVENT
END:VCALENDAR